BEGIN:VCALENDAR
VERSION:2.0
PRODID:-//Hospizbewegung Ratingen e.V. - ECPv6.0.12//NONSGML v1.0//EN
CALSCALE:GREGORIAN
METHOD:PUBLISH
X-WR-CALNAME:Hospizbewegung Ratingen e.V.
X-ORIGINAL-URL:https://www.hospizbewegung-ratingen.de
X-WR-CALDESC:Veranstaltungen für Hospizbewegung Ratingen e.V.
REFRESH-INTERVAL;VALUE=DURATION:PT1H
X-Robots-Tag:noindex
X-PUBLISHED-TTL:PT1H
BEGIN:VTIMEZONE
TZID:Europe/Helsinki
BEGIN:DAYLIGHT
TZOFFSETFROM:+0200
TZOFFSETTO:+0300
TZNAME:EEST
DTSTART:20260329T010000
END:DAYLIGHT
BEGIN:STANDARD
TZOFFSETFROM:+0300
TZOFFSETTO:+0200
TZNAME:EET
DTSTART:20261025T010000
END:STANDARD
END:VTIMEZONE
BEGIN:VEVENT
DTSTART;TZID=Europe/Helsinki:20260521T190000
DTEND;TZID=Europe/Helsinki:20260521T210000
DTSTAMP:20260420T113306
CREATED:20260226T122134Z
LAST-MODIFIED:20260417T192644Z
UID:4436-1779390000-1779397200@www.hospizbewegung-ratingen.de
SUMMARY:"Wir sind Viele -und jeder ist anders"- Trauergruppe für junge Erwachsene
DESCRIPTION:Der Tod eines geliebten Menschen verändert alles.  \nViele junge Erwachsene erleben Trauer als still\, einsam und unverstanden. Zwischen Studium\, Ausbildung oder Berufsstart bleibt oft wenig Raum für den Schmerz – dabei ist der Verlust schwer zu tragen. \nDu bist nicht allein. \nIn dieser Gruppe treffen sich junge Erwachsene\, die einen nahestehenden Menschen verloren haben – sei es Mutter\, Vater\, Partnerin\, Geschwister oder Freundin. \nGemeinsam schaffen wir einen geschützten Raum\, in dem: \n\nGefühle ihren Platz haben dürfen\,\nErinnerungen geteilt werden können\,\nAustausch auf Augenhöhe möglich ist.\n\nDu darfst traurig sein. Du darfst reden. Du darfst still sein. Wir sind da. \nBegleitet wird die Gruppe von erfahrenen Trauerbegleiter*innen der Hospizbewegung Ratingen e.V. \nDie Gruppe trifft sich jeden 3. Donnerstag eines Monats von 19.00-21.00 Uhr in den Räumen der Hospizbewegung Ratingen e. V. \, Bechemer Straße 1 in 40878 Ratingen. Sie können gerne spontan dazustoßen oder sich telefonisch unter 02102 23847 oder per E-Mail an info@hospizbewegung-ratingen.de anmelden.                                                                                                                                                            \nDie Gruppe ist offen und kostenlos.
URL:https://www.hospizbewegung-ratingen.de/event/wir-sind-viele-und-jeder-ist-anders-tarauergruppe-fuer-junge-erwachsene/
CATEGORIES:Aktuelles,Information und Beratung
ATTACH;FMTTYPE=image/jpeg:https://www.hospizbewegung-ratingen.de/wp-content/uploads/Pusteblume-Trauer-junge-Erwachsene-2026-scaled-e1773996372891.jpg
END:VEVENT
BEGIN:VEVENT
DTSTART;TZID=Europe/Helsinki:20260611T170000
DTEND;TZID=Europe/Helsinki:20260611T210000
DTSTAMP:20260420T113306
CREATED:20250520T095842Z
LAST-MODIFIED:20260417T192218Z
UID:4152-1781197200-1781211600@www.hospizbewegung-ratingen.de
SUMMARY:Extra "Letzte Hilfe" Kurs im Café Extrablatt !
DESCRIPTION:Aufgrund der großen Resonanz bietet die Hospizbewegung Ratingen in Kooperation mit dem Café Extrablatt am Marktplatz einen weiteren “Letzte Hilfe Kurs” nach einem von der Letzte Hilfe Deutschland gGmbH (www.letztehilfe.info) entwickelten Konzept an. Eine ungewöhnliche\, aber sehr lebendige Kooperation – denn wo ließe sich besser über das Leben und das Lebensende sprechen als in einem beliebten Treffpunkt mitten in der Stadt? \n\n\n\nBirger Thurmann\, Geschäftsführer des Café Extrablatt in Ratingen\, hat die Hospizbewegung eingeladen\, das Thema Sterben sichtbar ins Leben zu holen – dorthin\, wo Menschen einander begegnen\, lachen\, essen\, reden. Damit will er einen Impuls setzen\, das Lebensende nicht länger zu tabuisieren\, sondern als Teil unserer gemeinsamen Wirklichkeit zu begreifen. \n\n\n\nIn vier Unterrichtseinheiten lernen die Teilnehmenden\, wie sie schwerkranke und sterbende Menschen am Lebensende begleiten können – in der Familie\, im Freundeskreis\, in der Nachbarschaft. Die Inhalte orientieren sich an einem bundesweit bewährten Kurskonzept und tragen die Titel: \n\n\n 1. Sterben ist ein Teil des Lebens \n\n\n2. Vorsorgen und Entscheiden \n\n\n3. Leiden lindern \n\n\n4. Abschied nehmen \n\n\nGeleitet werden die Kurse von den erfahrenen Hospizmitarbeiterinnen Sigrid Schöwe und Karla Spiritus\, die mit großem Wissen und viel Herz durch die Themen führen. \n\n\nMit diesem Angebot möchte die Hospiz-bewegung Ratingen Menschen ermutigen\, sich dem Thema Leben und Sterben offen zu nähern. Denn zu wissen\, wie man helfen kann\, nimmt die Angst  – und stärkt die Menschlichkeit. \nFür den 11. Juni 2026\, 17:00 – 21:00 Uhr nehmen wir gerne Ihre Anmeldungen entgegen\, entweder telefonisch unter 02102/ 2 38 47 oder per Email info@hospizbewegung-ratingen.de Sie können sich auch gerne direkt auf der Homepage von Letzte Hilfe Deutschland anmelden. www.letztehilfe.info \nDie Veranstaltung ist kostenfrei\, Spenden sind willkommen. \nWeitere Termine 2026 : 13 August 2026 \n\n\n\n\n\n\n\n  \n\n\n\n\n\n\n\n\n\n\n\n 
URL:https://www.hospizbewegung-ratingen.de/event/extra-letzte-hilfe-kurs-im-cafe-extrablatt/
LOCATION:Café Extrablatt Marktplatz 10 40878 Ratingen\, Marktplatz 10\, Ratingen\, NRW\, 40878\, Deutschland
CATEGORIES:Aktuelles,Information und Beratung
ATTACH;FMTTYPE=image/png:https://www.hospizbewegung-ratingen.de/wp-content/uploads/Logo-Extrablatt.png
ORGANIZER;CN="Hospizbewegung%20Ratingen%20e.V.":MAILTO:info@hospizbewegung-ratingen.de
END:VEVENT
BEGIN:VEVENT
DTSTART;TZID=Europe/Helsinki:20261114T100000
DTEND;TZID=Europe/Helsinki:20261114T143000
DTSTAMP:20260420T113306
CREATED:20260120T130023Z
LAST-MODIFIED:20260413T083059Z
UID:4377-1794650400-1794666600@www.hospizbewegung-ratingen.de
SUMMARY:Letzter Hilfe Kurs für Kids & Teens im Katholischen Bildungsforum
DESCRIPTION:Sterben\, Tod und Trauer kindgerecht verstehen. \nSterben\, Tod und Trauer gehören zum Leben – auch zum Leben von Kindern und Jugendlichen. Statistisch sitzt in jeder Kindergartengruppe und in jeder Schulklasse in Deutschland mindestens ein Kind\, das aktuell mit Krankheit\, Sterben\, Tod oder Trauer in Berührung kommt. Dennoch fehlen häufig Sprache\, Wissen und sichere Räume für diese Themen. \nLetzte Hilfe Deutschland gGmbH (www.letztehilfe.info) hat deshalb eigene Kurse speziell für Kinder und Jugendliche entwickelt. Diese bauen auf dem bewährten Konzept der Letzten Hilfe Kurse für Erwachsene auf\, sind jedoch konsequent altersgerecht gestaltet. Wissen und Orientierung werden behutsam\, spielerisch und mit viel Raum für Fragen\, Austausch und Gefühle vermittelt. \nAm Samstag\, den 14. November 2026  \, findet im Katholischen Bildungsforum Ratingen ein Letzte Hilfe Kurs für Kids & Teens für Kinder und Jugendliche im Alter von 8 bis 16 Jahren statt. \nUhrzeit: 10:00 – 14:30 Uhr \nZiel des Kurses ist es\, Ängste abzubauen\, Offenheit zu fördern und Kinder sowie Jugendliche im Umgang mit schweren Lebenssituationen zu stärken. \nGeleitet wird der Kurs von Karla Spiritus und Sigrid Schöwe\, beide sehr erfahrene Sterbe- und Trauerbegleiterinnen der Hospizbewegung Ratingen. Gemeinsam haben sie 13 Enkelkinder und bringen dadurch nicht nur fachliche Kompetenz\, sondern auch eine große Nähe\, Erfahrung und Sicherheit im Umgang mit Kindern und Jugendlichen aller Altersgruppen mit. \nElternabend zur Information: \nUm den Eltern Sicherheit zu geben und mögliche Sorgen hinsichtlich der Kursinhalte aufzugreifen\, findet am 12. November 2026 von 18:30 bis 20:00 Uhr  ein Elternabend statt. \nAn diesem Abend stellen wir das speziell für Kinder und Jugendliche entwickelte Kurskonzept vor und beantworten Fragen. Der Elternabend richtet sich an alle Eltern\, deren Kinder am Kurs teilnehmen möchten.                                                                                                                                                                                                  \n 
URL:https://www.hospizbewegung-ratingen.de/event/letzter-hilfe-kurs-fuer-kids-teens/
CATEGORIES:Letzte Hilfe Kurs
ATTACH;FMTTYPE=image/jpeg:https://www.hospizbewegung-ratingen.de/wp-content/uploads/Logo-Kids.jpeg
END:VEVENT
BEGIN:VEVENT
DTSTART;TZID=Europe/Helsinki:20261126T170000
DTEND;TZID=Europe/Helsinki:20261126T210000
DTSTAMP:20260420T113306
CREATED:20260120T133522Z
LAST-MODIFIED:20260417T192457Z
UID:4382-1795712400-1795726800@www.hospizbewegung-ratingen.de
SUMMARY:Letzte Hilfe Kurs im Katholischen Bildungsforum
DESCRIPTION:Erste Hilfe und letzte Hilfe gemeinsam ist eine humane Haltung und die Bereitschaft\,  anderen Menschen in Not beizustehen. Beides kann aktiv geschehen wie zum Beispiel durch das Verbinden von Wunden und die Herz-Lungen-Wiederbelebung in der Ersten Hilfe. Aber auch letzte Hilfe kann aktiv sein z. B. durch die Mundpflege\, das Haltgeben bei Unruhe/Verwirrtheit\, aber auch Dasein/Dableiben angesichts schwieriger Situationen bei Sterbenden. Eine hinwendende Haltung und bürgerschaftliches Engagement bilden das gemeinsame Fundament von Erster und Letzter Hilfe. \nSeit mehreren Jahren bietet die Hospizbewegung Ratingen „Letzte Hilfe“ Kurse nach einem von der Letzte Hilfe Deutschland gGmbH (www.letztehilfe.info) entwickelten Konzept an. Diese vermitteln Bürgerinnen und Bürgern ein Grundwissen im Umgang mit schwerkranken und sterbenden Menschen. \nDefinitionen von Erste Hilfe und Letzte Hilfe nach Dr. Bollig: \nErste Hilfe\nMaßnahmen zur Hilfe bei akuter Verletzung und Erkrankung mit dem primären Ziel\, das Überleben der Betroffenen zu sichern. \nLetzte Hilfe \nMaßnahmen zur Hilfe bei lebensbedrohlichen Erkrankungen mit dem primären Ziel\, der Linderung von Leiden und Erhaltung von Lebensqualität. \n\n\n\n\n\n\n\nDie vier Unterrichtsstunden stehen jeweils für eines der vier Module: \n1. Sterben ist ein Teil des Lebens\n2. Vorsorgen und Entscheiden\n3. Leiden lindern\n4. Abschied nehmen vom Leben \n\n\n\n\n\n\n\n\n\n\n\n\n\n\n  \nWir werden über die Normalität des Sterbens als Teil des Lebens sprechen\, aber  auch über das Thema Patientenverfügung und Vorsorgevollmacht. Mögliche Leiden als Teil des Sterbeprozesses \, wie man diese lindern kann\, wird ebenfalls ein Thema sein. Weiterhin gehen wir darauf ein\, wie man mit den schwereren Stunden umgehen kann. Auch das Thema Abschied nehmen  werden wir aufnehmen. Wie auch bei der Ersten Hilfe soll die Letzte Hilfe Wissen zur humanen Hilfe und Mitmenschlichkeit in schwierigen Situationen vermitteln. Die Hospizbewegung Ratingen e.V. bietet die “Letzte-Hilfe-Kurse” nach einem von der Letzten Hilfe Deutschland gGmbH (www.letztehilfe.info) entwickelten Konzept an. \nDer Kurs findet in Kooperation mit dem Katholischen Bildungsforum am Donnerstag\, den 26. November 2026 von 17:00 Uhr bis 21:00 Uhr in den Räumlichkeiten des Katholischen Bildungsforums an der Kirchgasse 1 in Ratingen statt. \nEine Anmeldung ist unter www.bildungsforum-kreis-mettmann.de erforderlich.
URL:https://www.hospizbewegung-ratingen.de/event/letzte-hilfe-kurs-im-katholischen-bildungsforum/
CATEGORIES:Letzte Hilfe Kurs
ATTACH;FMTTYPE=image/webp:https://www.hospizbewegung-ratingen.de/wp-content/uploads/Letzte-Hilfe-Grafik.webp
END:VEVENT
END:VCALENDAR